BEGIN:VCALENDAR
VERSION:2.0
PRODID:-//Sin City Club Crawl | Las Vegas Party Bus Tours | VIP Entry Nightclubs &amp; Pooll - ECPv6.15.20//NONSGML v1.0//EN
CALSCALE:GREGORIAN
METHOD:PUBLISH
X-ORIGINAL-URL:https://sincityclubcrawl.com
X-WR-CALDESC:Events for Sin City Club Crawl | Las Vegas Party Bus Tours | VIP Entry Nightclubs &amp; Pooll
REFRESH-INTERVAL;VALUE=DURATION:PT1H
X-Robots-Tag:noindex
X-PUBLISHED-TTL:PT1H
BEGIN:VTIMEZONE
TZID:America/Los_Angeles
BEGIN:DAYLIGHT
TZOFFSETFROM:-0800
TZOFFSETTO:-0700
TZNAME:PDT
DTSTART:20140309T100000
END:DAYLIGHT
BEGIN:STANDARD
TZOFFSETFROM:-0700
TZOFFSETTO:-0800
TZNAME:PST
DTSTART:20141102T090000
END:STANDARD
BEGIN:DAYLIGHT
TZOFFSETFROM:-0800
TZOFFSETTO:-0700
TZNAME:PDT
DTSTART:20150308T100000
END:DAYLIGHT
BEGIN:STANDARD
TZOFFSETFROM:-0700
TZOFFSETTO:-0800
TZNAME:PST
DTSTART:20151101T090000
END:STANDARD
BEGIN:DAYLIGHT
TZOFFSETFROM:-0800
TZOFFSETTO:-0700
TZNAME:PDT
DTSTART:20160313T100000
END:DAYLIGHT
BEGIN:STANDARD
TZOFFSETFROM:-0700
TZOFFSETTO:-0800
TZNAME:PST
DTSTART:20161106T090000
END:STANDARD
BEGIN:DAYLIGHT
TZOFFSETFROM:-0800
TZOFFSETTO:-0700
TZNAME:PDT
DTSTART:20170312T100000
END:DAYLIGHT
BEGIN:STANDARD
TZOFFSETFROM:-0700
TZOFFSETTO:-0800
TZNAME:PST
DTSTART:20171105T090000
END:STANDARD
BEGIN:DAYLIGHT
TZOFFSETFROM:-0800
TZOFFSETTO:-0700
TZNAME:PDT
DTSTART:20180311T100000
END:DAYLIGHT
BEGIN:STANDARD
TZOFFSETFROM:-0700
TZOFFSETTO:-0800
TZNAME:PST
DTSTART:20181104T090000
END:STANDARD
BEGIN:DAYLIGHT
TZOFFSETFROM:-0800
TZOFFSETTO:-0700
TZNAME:PDT
DTSTART:20190310T100000
END:DAYLIGHT
BEGIN:STANDARD
TZOFFSETFROM:-0700
TZOFFSETTO:-0800
TZNAME:PST
DTSTART:20191103T090000
END:STANDARD
BEGIN:DAYLIGHT
TZOFFSETFROM:-0800
TZOFFSETTO:-0700
TZNAME:PDT
DTSTART:20200308T100000
END:DAYLIGHT
BEGIN:STANDARD
TZOFFSETFROM:-0700
TZOFFSETTO:-0800
TZNAME:PST
DTSTART:20201101T090000
END:STANDARD
BEGIN:DAYLIGHT
TZOFFSETFROM:-0800
TZOFFSETTO:-0700
TZNAME:PDT
DTSTART:20210314T100000
END:DAYLIGHT
BEGIN:STANDARD
TZOFFSETFROM:-0700
TZOFFSETTO:-0800
TZNAME:PST
DTSTART:20211107T090000
END:STANDARD
BEGIN:DAYLIGHT
TZOFFSETFROM:-0800
TZOFFSETTO:-0700
TZNAME:PDT
DTSTART:20220313T100000
END:DAYLIGHT
BEGIN:STANDARD
TZOFFSETFROM:-0700
TZOFFSETTO:-0800
TZNAME:PST
DTSTART:20221106T090000
END:STANDARD
BEGIN:DAYLIGHT
TZOFFSETFROM:-0800
TZOFFSETTO:-0700
TZNAME:PDT
DTSTART:20230312T100000
END:DAYLIGHT
BEGIN:STANDARD
TZOFFSETFROM:-0700
TZOFFSETTO:-0800
TZNAME:PST
DTSTART:20231105T090000
END:STANDARD
BEGIN:DAYLIGHT
TZOFFSETFROM:-0800
TZOFFSETTO:-0700
TZNAME:PDT
DTSTART:20240310T100000
END:DAYLIGHT
BEGIN:STANDARD
TZOFFSETFROM:-0700
TZOFFSETTO:-0800
TZNAME:PST
DTSTART:20241103T090000
END:STANDARD
BEGIN:DAYLIGHT
TZOFFSETFROM:-0800
TZOFFSETTO:-0700
TZNAME:PDT
DTSTART:20250309T100000
END:DAYLIGHT
BEGIN:STANDARD
TZOFFSETFROM:-0700
TZOFFSETTO:-0800
TZNAME:PST
DTSTART:20251102T090000
END:STANDARD
BEGIN:DAYLIGHT
TZOFFSETFROM:-0800
TZOFFSETTO:-0700
TZNAME:PDT
DTSTART:20260308T100000
END:DAYLIGHT
BEGIN:STANDARD
TZOFFSETFROM:-0700
TZOFFSETTO:-0800
TZNAME:PST
DTSTART:20261101T090000
END:STANDARD
END:VTIMEZONE
BEGIN:VTIMEZONE
TZID:Africa/Abidjan
BEGIN:STANDARD
TZOFFSETFROM:+0000
TZOFFSETTO:+0000
TZNAME:GMT
DTSTART:20240101T000000
END:STANDARD
END:VTIMEZONE
BEGIN:VEVENT
DTSTART;TZID=America/Los_Angeles:20150709T210000
DTEND;TZID=America/Los_Angeles:20251221T013000
DTSTAMP:20260421T033436
CREATED:20241231T063404Z
LAST-MODIFIED:20241231T070736Z
UID:35497-1436475600-1766280600@sincityclubcrawl.com
SUMMARY:Sin City Club Crawl Packages
DESCRIPTION:Our Las Vegas Club Crawls include line passes\, no-cover/entry fees\, transportation and complimentary drinks!\n\n\nSelect the number of male/female guests below then click the checkout button to purchase your club crawl tickets!\nCheck in is at Blondies in the Planet Hollywood hotel. Map of pickup location is below. Final destination is last nightclub.
URL:https://sincityclubcrawl.com/event/sin-city-club-crawl-packages-468/
LOCATION:Check in at Blondies in the Planet Hollywood Hotel\, 3663 Las Vegas Blvd S Las Vegas\, Las Vegas\, NV 89109\, Las Vegas\, NV\, 89109\, US
ATTACH;FMTTYPE=image/jpeg:https://sincityclubcrawl.com/wp-content/uploads/2024/12/35497_image.jpg
END:VEVENT
BEGIN:VEVENT
DTSTART;TZID=Africa/Abidjan:20251003T113000
DTEND;TZID=Africa/Abidjan:20251003T143000
DTSTAMP:20260421T033436
CREATED:20250307T210047Z
LAST-MODIFIED:20251003T225406Z
UID:37406-1759491000-1759501800@sincityclubcrawl.com
SUMMARY:Sin City Club Crawl Pool Tour
DESCRIPTION:Party bus Pool Crawl\n\n\n11:30am- Check in at Go Pool at the Flamingo \n2nd Pool- To be announced \n3rd Pool- To be announced \nYou will arrive at the last pool between 2:30-3 pm. The tour ends at the last pool. \n \nPackage Includes: \nAdmission to 3 pool parties \nParty bus transportation to the pools \nComplimentary drinks and waters \nParty hosts
URL:https://sincityclubcrawl.com/event/sin-city-club-crawl-pool-tour-175/
LOCATION:Las Vegas\, Las Vegas\, Las Vegas\, NV 89109\, Las Vegas\, NV\, 89109\, US
ATTACH;FMTTYPE=image/jpeg:https://sincityclubcrawl.com/wp-content/uploads/2023/01/15846_image.jpg
END:VEVENT
BEGIN:VEVENT
DTSTART;TZID=Africa/Abidjan:20251003T210000
DTEND;TZID=Africa/Abidjan:20251004T013000
DTSTAMP:20260421T033436
CREATED:20241230T235537Z
LAST-MODIFIED:20251003T225344Z
UID:35390-1759525200-1759541400@sincityclubcrawl.com
SUMMARY:Sin City Club Crawl Packages
DESCRIPTION:Our Las Vegas Club Crawls include line passes\, no-cover/entry fees\, transportation and complimentary drinks!\n\n\n \nSelect the number of male/female guests below then click the checkout button to purchase your club crawl tickets!\nCheck in is at Flights in the Planet Hollywood hotel. Map of pickup location is below. Final destination is last nightclub.
URL:https://sincityclubcrawl.com/event/sin-city-club-crawl-packages-442/
LOCATION:Check in at Blondies in the Planet Hollywood Hotel\, 3663 Las Vegas Blvd S Las Vegas\, Las Vegas\, NV 89109\, Las Vegas\, NV\, 89109\, US
END:VEVENT
BEGIN:VEVENT
DTSTART;TZID=Africa/Abidjan:20251004T113000
DTEND;TZID=Africa/Abidjan:20251004T143000
DTSTAMP:20260421T033436
CREATED:20250307T210050Z
LAST-MODIFIED:20251004T225435Z
UID:37407-1759577400-1759588200@sincityclubcrawl.com
SUMMARY:Sin City Club Crawl Pool Tour
DESCRIPTION:Party bus Pool Crawl\n\n\n11:30am- Check in at Go Pool at the Flamingo \n2nd Pool- To be announced \n3rd Pool- To be announced \nYou will arrive at the last pool between 2:30-3 pm. The tour ends at the last pool. \n \nPackage Includes: \nAdmission to 3 pool parties \nParty bus transportation to the pools \nComplimentary drinks and waters \nParty hosts
URL:https://sincityclubcrawl.com/event/sin-city-club-crawl-pool-tour-176/
LOCATION:Las Vegas\, Las Vegas\, Las Vegas\, NV 89109\, Las Vegas\, NV\, 89109\, US
ATTACH;FMTTYPE=image/jpeg:https://sincityclubcrawl.com/wp-content/uploads/2023/01/15846_image.jpg
END:VEVENT
BEGIN:VEVENT
DTSTART;TZID=Africa/Abidjan:20251004T210000
DTEND;TZID=Africa/Abidjan:20251005T013000
DTSTAMP:20260421T033436
CREATED:20241230T235539Z
LAST-MODIFIED:20251004T225420Z
UID:35391-1759611600-1759627800@sincityclubcrawl.com
SUMMARY:Sin City Club Crawl Packages
DESCRIPTION:Our Las Vegas Club Crawls include line passes\, no-cover/entry fees\, transportation and complimentary drinks!\n\n\n \nSelect the number of male/female guests below then click the checkout button to purchase your club crawl tickets!\nCheck in is at Flights in the Planet Hollywood hotel. Map of pickup location is below. Final destination is last nightclub.
URL:https://sincityclubcrawl.com/event/sin-city-club-crawl-packages-443/
LOCATION:Check in at Blondies in the Planet Hollywood Hotel\, 3663 Las Vegas Blvd S Las Vegas\, Las Vegas\, NV 89109\, Las Vegas\, NV\, 89109\, US
END:VEVENT
BEGIN:VEVENT
DTSTART;TZID=Africa/Abidjan:20251010T113000
DTEND;TZID=Africa/Abidjan:20251010T143000
DTSTAMP:20260421T033436
CREATED:20250307T210053Z
LAST-MODIFIED:20251010T225334Z
UID:37408-1760095800-1760106600@sincityclubcrawl.com
SUMMARY:Sin City Club Crawl Pool Tour
DESCRIPTION:Party bus Pool Crawl\n\n\n11:30am- Check in at Go Pool at the Flamingo \n2nd Pool- To be announced \n3rd Pool- To be announced \nYou will arrive at the last pool between 2:30-3 pm. The tour ends at the last pool. \n \nPackage Includes: \nAdmission to 3 pool parties \nParty bus transportation to the pools \nComplimentary drinks and waters \nParty hosts
URL:https://sincityclubcrawl.com/event/sin-city-club-crawl-pool-tour-177/
LOCATION:Las Vegas\, Las Vegas\, Las Vegas\, NV 89109\, Las Vegas\, NV\, 89109\, US
ATTACH;FMTTYPE=image/jpeg:https://sincityclubcrawl.com/wp-content/uploads/2023/01/15846_image.jpg
END:VEVENT
BEGIN:VEVENT
DTSTART;TZID=Africa/Abidjan:20251010T210000
DTEND;TZID=Africa/Abidjan:20251011T013000
DTSTAMP:20260421T033436
CREATED:20241230T235540Z
LAST-MODIFIED:20251011T225327Z
UID:35392-1760130000-1760146200@sincityclubcrawl.com
SUMMARY:Sin City Club Crawl Packages
DESCRIPTION:Our Las Vegas Club Crawls include line passes\, no-cover/entry fees\, transportation and complimentary drinks!\n\n\n \nSelect the number of male/female guests below then click the checkout button to purchase your club crawl tickets!\nCheck in is at Flights in the Planet Hollywood hotel. Map of pickup location is below. Final destination is last nightclub.
URL:https://sincityclubcrawl.com/event/sin-city-club-crawl-packages-444/
LOCATION:Check in at Blondies in the Planet Hollywood Hotel\, 3663 Las Vegas Blvd S Las Vegas\, Las Vegas\, NV 89109\, Las Vegas\, NV\, 89109\, US
END:VEVENT
BEGIN:VEVENT
DTSTART;TZID=Africa/Abidjan:20251011T113000
DTEND;TZID=Africa/Abidjan:20251011T143000
DTSTAMP:20260421T033436
CREATED:20250307T210056Z
LAST-MODIFIED:20251011T225343Z
UID:37409-1760182200-1760193000@sincityclubcrawl.com
SUMMARY:Sin City Club Crawl Pool Tour
DESCRIPTION:Party bus Pool Crawl\n\n\n11:30am- Check in at Go Pool at the Flamingo \n2nd Pool- To be announced \n3rd Pool- To be announced \nYou will arrive at the last pool between 2:30-3 pm. The tour ends at the last pool. \n \nPackage Includes: \nAdmission to 3 pool parties \nParty bus transportation to the pools \nComplimentary drinks and waters \nParty hosts
URL:https://sincityclubcrawl.com/event/sin-city-club-crawl-pool-tour-178/
LOCATION:Las Vegas\, Las Vegas\, Las Vegas\, NV 89109\, Las Vegas\, NV\, 89109\, US
ATTACH;FMTTYPE=image/jpeg:https://sincityclubcrawl.com/wp-content/uploads/2023/01/15846_image.jpg
END:VEVENT
BEGIN:VEVENT
DTSTART;TZID=Africa/Abidjan:20251011T210000
DTEND;TZID=Africa/Abidjan:20251012T013000
DTSTAMP:20260421T033436
CREATED:20241230T235542Z
LAST-MODIFIED:20251012T225801Z
UID:35393-1760216400-1760232600@sincityclubcrawl.com
SUMMARY:Sin City Club Crawl Packages
DESCRIPTION:Our Las Vegas Club Crawls include line passes\, no-cover/entry fees\, transportation and complimentary drinks!\n\n\n \nSelect the number of male/female guests below then click the checkout button to purchase your club crawl tickets!\nCheck in is at Flights in the Planet Hollywood hotel. Map of pickup location is below. Final destination is last nightclub.
URL:https://sincityclubcrawl.com/event/sin-city-club-crawl-packages-445/
LOCATION:Check in at Blondies in the Planet Hollywood Hotel\, 3663 Las Vegas Blvd S Las Vegas\, Las Vegas\, NV 89109\, Las Vegas\, NV\, 89109\, US
END:VEVENT
BEGIN:VEVENT
DTSTART;TZID=Africa/Abidjan:20251017T113000
DTEND;TZID=Africa/Abidjan:20251017T143000
DTSTAMP:20260421T033436
CREATED:20250307T210059Z
LAST-MODIFIED:20251010T225335Z
UID:37410-1760700600-1760711400@sincityclubcrawl.com
SUMMARY:Sin City Club Crawl Pool Tour
DESCRIPTION:Party bus Pool Crawl\n\n\n11:30am- Check in at Go Pool at the Flamingo \n2nd Pool- To be announced \n3rd Pool- To be announced \nYou will arrive at the last pool between 2:30-3 pm. The tour ends at the last pool. \n \nPackage Includes: \nAdmission to 3 pool parties \nParty bus transportation to the pools \nComplimentary drinks and waters \nParty hosts
URL:https://sincityclubcrawl.com/event/sin-city-club-crawl-pool-tour-179/
LOCATION:Las Vegas\, Las Vegas\, Las Vegas\, NV 89109\, Las Vegas\, NV\, 89109\, US
ATTACH;FMTTYPE=image/jpeg:https://sincityclubcrawl.com/wp-content/uploads/2023/01/15846_image.jpg
END:VEVENT
BEGIN:VEVENT
DTSTART;TZID=Africa/Abidjan:20251017T210000
DTEND;TZID=Africa/Abidjan:20251018T013000
DTSTAMP:20260421T033436
CREATED:20241230T235544Z
LAST-MODIFIED:20251018T225323Z
UID:35394-1760734800-1760751000@sincityclubcrawl.com
SUMMARY:Sin City Club Crawl Packages
DESCRIPTION:Our Las Vegas Club Crawls include line passes\, no-cover/entry fees\, transportation and complimentary drinks!\n\n\n \nSelect the number of male/female guests below then click the checkout button to purchase your club crawl tickets!\nCheck in is at Flights in the Planet Hollywood hotel. Map of pickup location is below. Final destination is last nightclub.
URL:https://sincityclubcrawl.com/event/sin-city-club-crawl-packages-446/
LOCATION:Check in at Blondies in the Planet Hollywood Hotel\, 3663 Las Vegas Blvd S Las Vegas\, Las Vegas\, NV 89109\, Las Vegas\, NV\, 89109\, US
END:VEVENT
BEGIN:VEVENT
DTSTART;TZID=Africa/Abidjan:20251018T113000
DTEND;TZID=Africa/Abidjan:20251018T143000
DTSTAMP:20260421T033436
CREATED:20250307T210101Z
LAST-MODIFIED:20251010T225339Z
UID:37411-1760787000-1760797800@sincityclubcrawl.com
SUMMARY:Sin City Club Crawl Pool Tour
DESCRIPTION:Party bus Pool Crawl\n\n\n11:30am- Check in at Go Pool at the Flamingo \n2nd Pool- To be announced \n3rd Pool- To be announced \nYou will arrive at the last pool between 2:30-3 pm. The tour ends at the last pool. \n \nPackage Includes: \nAdmission to 3 pool parties \nParty bus transportation to the pools \nComplimentary drinks and waters \nParty hosts
URL:https://sincityclubcrawl.com/event/sin-city-club-crawl-pool-tour-180/
LOCATION:Las Vegas\, Las Vegas\, Las Vegas\, NV 89109\, Las Vegas\, NV\, 89109\, US
ATTACH;FMTTYPE=image/jpeg:https://sincityclubcrawl.com/wp-content/uploads/2023/01/15846_image.jpg
END:VEVENT
BEGIN:VEVENT
DTSTART;TZID=Africa/Abidjan:20251018T210000
DTEND;TZID=Africa/Abidjan:20251019T013000
DTSTAMP:20260421T033436
CREATED:20241230T235545Z
LAST-MODIFIED:20251018T225324Z
UID:35395-1760821200-1760837400@sincityclubcrawl.com
SUMMARY:Sin City Club Crawl Packages
DESCRIPTION:Our Las Vegas Club Crawls include line passes\, no-cover/entry fees\, transportation and complimentary drinks!\n\n\n \nSelect the number of male/female guests below then click the checkout button to purchase your club crawl tickets!\nCheck in is at Flights in the Planet Hollywood hotel. Map of pickup location is below. Final destination is last nightclub.
URL:https://sincityclubcrawl.com/event/sin-city-club-crawl-packages-447/
LOCATION:Check in at Blondies in the Planet Hollywood Hotel\, 3663 Las Vegas Blvd S Las Vegas\, Las Vegas\, NV 89109\, Las Vegas\, NV\, 89109\, US
END:VEVENT
BEGIN:VEVENT
DTSTART;TZID=Africa/Abidjan:20251024T210000
DTEND;TZID=Africa/Abidjan:20251025T013000
DTSTAMP:20260421T033436
CREATED:20241230T235547Z
LAST-MODIFIED:20251025T225428Z
UID:35396-1761339600-1761355800@sincityclubcrawl.com
SUMMARY:Sin City Club Crawl Packages
DESCRIPTION:Our Las Vegas Club Crawls include line passes\, no-cover/entry fees\, transportation and complimentary drinks!\n\n\n \nSelect the number of male/female guests below then click the checkout button to purchase your club crawl tickets!\nCheck in is at Flights in the Planet Hollywood hotel. Map of pickup location is below. Final destination is last nightclub.
URL:https://sincityclubcrawl.com/event/sin-city-club-crawl-packages-448/
LOCATION:Check in at Blondies in the Planet Hollywood Hotel\, 3663 Las Vegas Blvd S Las Vegas\, Las Vegas\, NV 89109\, Las Vegas\, NV\, 89109\, US
END:VEVENT
BEGIN:VEVENT
DTSTART;TZID=Africa/Abidjan:20251025T210000
DTEND;TZID=Africa/Abidjan:20251026T013000
DTSTAMP:20260421T033436
CREATED:20241230T235549Z
LAST-MODIFIED:20251025T225429Z
UID:35397-1761426000-1761442200@sincityclubcrawl.com
SUMMARY:Sin City Club Crawl Packages
DESCRIPTION:Our Las Vegas Club Crawls include line passes\, no-cover/entry fees\, transportation and complimentary drinks!\n\n\n \nSelect the number of male/female guests below then click the checkout button to purchase your club crawl tickets!\nCheck in is at Flights in the Planet Hollywood hotel. Map of pickup location is below. Final destination is last nightclub.
URL:https://sincityclubcrawl.com/event/sin-city-club-crawl-packages-449/
LOCATION:Check in at Blondies in the Planet Hollywood Hotel\, 3663 Las Vegas Blvd S Las Vegas\, Las Vegas\, NV 89109\, Las Vegas\, NV\, 89109\, US
END:VEVENT
BEGIN:VEVENT
DTSTART;TZID=Africa/Abidjan:20251031T210000
DTEND;TZID=Africa/Abidjan:20251101T013000
DTSTAMP:20260421T033436
CREATED:20241230T235550Z
LAST-MODIFIED:20251101T225726Z
UID:35398-1761944400-1761960600@sincityclubcrawl.com
SUMMARY:Sin City Club Crawl Packages
DESCRIPTION:Our Las Vegas Club Crawls include line passes\, no-cover/entry fees\, transportation and complimentary drinks!\n\n\n \nSelect the number of male/female guests below then click the checkout button to purchase your club crawl tickets!\nCheck in is at Flights in the Planet Hollywood hotel. Map of pickup location is below. Final destination is last nightclub.
URL:https://sincityclubcrawl.com/event/sin-city-club-crawl-packages-450/
LOCATION:Check in at Blondies in the Planet Hollywood Hotel\, 3663 Las Vegas Blvd S Las Vegas\, Las Vegas\, NV 89109\, Las Vegas\, NV\, 89109\, US
END:VEVENT
END:VCALENDAR