BEGIN:VCALENDAR
VERSION:2.0
PRODID:-//Sin City Club Crawl | Las Vegas Party Bus Tours | VIP Entry Nightclubs &amp; Pooll - ECPv6.15.20//NONSGML v1.0//EN
CALSCALE:GREGORIAN
METHOD:PUBLISH
X-ORIGINAL-URL:https://sincityclubcrawl.com
X-WR-CALDESC:Events for Sin City Club Crawl | Las Vegas Party Bus Tours | VIP Entry Nightclubs &amp; Pooll
REFRESH-INTERVAL;VALUE=DURATION:PT1H
X-Robots-Tag:noindex
X-PUBLISHED-TTL:PT1H
BEGIN:VTIMEZONE
TZID:America/Los_Angeles
BEGIN:DAYLIGHT
TZOFFSETFROM:-0800
TZOFFSETTO:-0700
TZNAME:PDT
DTSTART:20140309T100000
END:DAYLIGHT
BEGIN:STANDARD
TZOFFSETFROM:-0700
TZOFFSETTO:-0800
TZNAME:PST
DTSTART:20141102T090000
END:STANDARD
BEGIN:DAYLIGHT
TZOFFSETFROM:-0800
TZOFFSETTO:-0700
TZNAME:PDT
DTSTART:20150308T100000
END:DAYLIGHT
BEGIN:STANDARD
TZOFFSETFROM:-0700
TZOFFSETTO:-0800
TZNAME:PST
DTSTART:20151101T090000
END:STANDARD
BEGIN:DAYLIGHT
TZOFFSETFROM:-0800
TZOFFSETTO:-0700
TZNAME:PDT
DTSTART:20160313T100000
END:DAYLIGHT
BEGIN:STANDARD
TZOFFSETFROM:-0700
TZOFFSETTO:-0800
TZNAME:PST
DTSTART:20161106T090000
END:STANDARD
BEGIN:DAYLIGHT
TZOFFSETFROM:-0800
TZOFFSETTO:-0700
TZNAME:PDT
DTSTART:20170312T100000
END:DAYLIGHT
BEGIN:STANDARD
TZOFFSETFROM:-0700
TZOFFSETTO:-0800
TZNAME:PST
DTSTART:20171105T090000
END:STANDARD
BEGIN:DAYLIGHT
TZOFFSETFROM:-0800
TZOFFSETTO:-0700
TZNAME:PDT
DTSTART:20180311T100000
END:DAYLIGHT
BEGIN:STANDARD
TZOFFSETFROM:-0700
TZOFFSETTO:-0800
TZNAME:PST
DTSTART:20181104T090000
END:STANDARD
BEGIN:DAYLIGHT
TZOFFSETFROM:-0800
TZOFFSETTO:-0700
TZNAME:PDT
DTSTART:20190310T100000
END:DAYLIGHT
BEGIN:STANDARD
TZOFFSETFROM:-0700
TZOFFSETTO:-0800
TZNAME:PST
DTSTART:20191103T090000
END:STANDARD
BEGIN:DAYLIGHT
TZOFFSETFROM:-0800
TZOFFSETTO:-0700
TZNAME:PDT
DTSTART:20200308T100000
END:DAYLIGHT
BEGIN:STANDARD
TZOFFSETFROM:-0700
TZOFFSETTO:-0800
TZNAME:PST
DTSTART:20201101T090000
END:STANDARD
BEGIN:DAYLIGHT
TZOFFSETFROM:-0800
TZOFFSETTO:-0700
TZNAME:PDT
DTSTART:20210314T100000
END:DAYLIGHT
BEGIN:STANDARD
TZOFFSETFROM:-0700
TZOFFSETTO:-0800
TZNAME:PST
DTSTART:20211107T090000
END:STANDARD
BEGIN:DAYLIGHT
TZOFFSETFROM:-0800
TZOFFSETTO:-0700
TZNAME:PDT
DTSTART:20220313T100000
END:DAYLIGHT
BEGIN:STANDARD
TZOFFSETFROM:-0700
TZOFFSETTO:-0800
TZNAME:PST
DTSTART:20221106T090000
END:STANDARD
BEGIN:DAYLIGHT
TZOFFSETFROM:-0800
TZOFFSETTO:-0700
TZNAME:PDT
DTSTART:20230312T100000
END:DAYLIGHT
BEGIN:STANDARD
TZOFFSETFROM:-0700
TZOFFSETTO:-0800
TZNAME:PST
DTSTART:20231105T090000
END:STANDARD
BEGIN:DAYLIGHT
TZOFFSETFROM:-0800
TZOFFSETTO:-0700
TZNAME:PDT
DTSTART:20240310T100000
END:DAYLIGHT
BEGIN:STANDARD
TZOFFSETFROM:-0700
TZOFFSETTO:-0800
TZNAME:PST
DTSTART:20241103T090000
END:STANDARD
BEGIN:DAYLIGHT
TZOFFSETFROM:-0800
TZOFFSETTO:-0700
TZNAME:PDT
DTSTART:20250309T100000
END:DAYLIGHT
BEGIN:STANDARD
TZOFFSETFROM:-0700
TZOFFSETTO:-0800
TZNAME:PST
DTSTART:20251102T090000
END:STANDARD
BEGIN:DAYLIGHT
TZOFFSETFROM:-0800
TZOFFSETTO:-0700
TZNAME:PDT
DTSTART:20260308T100000
END:DAYLIGHT
BEGIN:STANDARD
TZOFFSETFROM:-0700
TZOFFSETTO:-0800
TZNAME:PST
DTSTART:20261101T090000
END:STANDARD
END:VTIMEZONE
BEGIN:VTIMEZONE
TZID:UTC
BEGIN:STANDARD
TZOFFSETFROM:+0000
TZOFFSETTO:+0000
TZNAME:UTC
DTSTART:20210101T000000
END:STANDARD
END:VTIMEZONE
BEGIN:VEVENT
DTSTART;TZID=America/Los_Angeles:20150709T210000
DTEND;TZID=America/Los_Angeles:20251221T013000
DTSTAMP:20260421T050449
CREATED:20241231T063404Z
LAST-MODIFIED:20241231T070736Z
UID:35497-1436475600-1766280600@sincityclubcrawl.com
SUMMARY:Sin City Club Crawl Packages
DESCRIPTION:Our Las Vegas Club Crawls include line passes\, no-cover/entry fees\, transportation and complimentary drinks!\n\n\nSelect the number of male/female guests below then click the checkout button to purchase your club crawl tickets!\nCheck in is at Blondies in the Planet Hollywood hotel. Map of pickup location is below. Final destination is last nightclub.
URL:https://sincityclubcrawl.com/event/sin-city-club-crawl-packages-468/
LOCATION:Check in at Blondies in the Planet Hollywood Hotel\, 3663 Las Vegas Blvd S Las Vegas\, Las Vegas\, NV 89109\, Las Vegas\, NV\, 89109\, US
ATTACH;FMTTYPE=image/jpeg:https://sincityclubcrawl.com/wp-content/uploads/2024/12/35497_image.jpg
END:VEVENT
BEGIN:VEVENT
DTSTART;TZID=UTC:20220401T210000
DTEND;TZID=UTC:20220402T013000
DTSTAMP:20260421T050449
CREATED:20211021T015324Z
LAST-MODIFIED:20220402T215318Z
UID:3613-1648846800-1648863000@sincityclubcrawl.com
SUMMARY:Sin City Club Crawl Packages
DESCRIPTION:Our Las Vegas Club Crawls include line passes\, no-cover/entry fees\, transportation and complimentary drinks!\n\n\n  \nSelect the number of male/female guests below then click the checkout button to purchase your club crawl tickets! \nCheck in is at Blondies in the Planet Hollywood hotel. Map of pickup location is below. Final destination is last nightclub.
URL:https://sincityclubcrawl.com/event/sin-city-club-crawl-packages-70/
LOCATION:Untitled
ATTACH;FMTTYPE=image/jpeg:https://sincityclubcrawl.com/wp-content/uploads/2021/07/772_image.jpg
END:VEVENT
BEGIN:VEVENT
DTSTART;TZID=UTC:20220402T210000
DTEND;TZID=UTC:20220403T013000
DTSTAMP:20260421T050449
CREATED:20211021T015325Z
LAST-MODIFIED:20220403T210006Z
UID:3614-1648933200-1648949400@sincityclubcrawl.com
SUMMARY:Sin City Club Crawl Packages
DESCRIPTION:Our Las Vegas Club Crawls include line passes\, no-cover/entry fees\, transportation and complimentary drinks!\n\n\n  \nSelect the number of male/female guests below then click the checkout button to purchase your club crawl tickets! \nCheck in is at Blondies in the Planet Hollywood hotel. Map of pickup location is below. Final destination is last nightclub.
URL:https://sincityclubcrawl.com/event/sin-city-club-crawl-packages-71/
LOCATION:Untitled
ATTACH;FMTTYPE=image/jpeg:https://sincityclubcrawl.com/wp-content/uploads/2021/07/772_image.jpg
END:VEVENT
BEGIN:VEVENT
DTSTART;TZID=UTC:20220408T113000
DTEND;TZID=UTC:20220408T143000
DTSTAMP:20260421T050449
CREATED:20220305T035231Z
LAST-MODIFIED:20220409T115218Z
UID:7083-1649417400-1649428200@sincityclubcrawl.com
SUMMARY:Sin City Club Crawl Pool Tour
DESCRIPTION:Party bus Pool Crawl\n\n\n 11:30am- Check in at Go Pool at The Flamingo \n2nd Pool- To be announced \n3rd Pool- Elia Beach club at The Virgin hotel \nYou will arrive at the last pool between 2:30-3 pm. The tour ends at the last pool. \n \nPackage Includes: \nAdmission to 3 pool parties \nParty bus transportation to the pools \n Complimentary drinks and waters \nParty hosts
URL:https://sincityclubcrawl.com/event/2022-pool-tour/
LOCATION:Las Vegas\, 3400 S. Las Vegas Blvd\, Las Vegas\, NV 89109\, Las Vegas\, NV\, 89109\, US
END:VEVENT
BEGIN:VEVENT
DTSTART;TZID=UTC:20220408T210000
DTEND;TZID=UTC:20220409T013000
DTSTAMP:20260421T050449
CREATED:20211021T015327Z
LAST-MODIFIED:20220409T215531Z
UID:3615-1649451600-1649467800@sincityclubcrawl.com
SUMMARY:Sin City Club Crawl Packages
DESCRIPTION:Our Las Vegas Club Crawls include line passes\, no-cover/entry fees\, transportation and complimentary drinks!\n\n\n  \nSelect the number of male/female guests below then click the checkout button to purchase your club crawl tickets! \nCheck in is at Blondies in the Planet Hollywood hotel. Map of pickup location is below. Final destination is last nightclub.
URL:https://sincityclubcrawl.com/event/sin-city-club-crawl-packages-72/
LOCATION:Untitled
ATTACH;FMTTYPE=image/jpeg:https://sincityclubcrawl.com/wp-content/uploads/2021/07/772_image.jpg
END:VEVENT
BEGIN:VEVENT
DTSTART;TZID=UTC:20220409T113000
DTEND;TZID=UTC:20220409T143000
DTSTAMP:20260421T050449
CREATED:20220305T035233Z
LAST-MODIFIED:20220410T115217Z
UID:7084-1649503800-1649514600@sincityclubcrawl.com
SUMMARY:Sin City Club Crawl Pool Tour
DESCRIPTION:Party bus Pool Crawl\n\n\n 11:30am- Check in at Go Pool at The Flamingo \n2nd Pool- To be announced \n3rd Pool- Elia Beach club at The Virgin hotel \nYou will arrive at the last pool between 2:30-3 pm. The tour ends at the last pool. \n \nPackage Includes: \nAdmission to 3 pool parties \nParty bus transportation to the pools \n Complimentary drinks and waters \nParty hosts
URL:https://sincityclubcrawl.com/event/2022-pool-tour-2/
LOCATION:Las Vegas\, 3400 S. Las Vegas Blvd\, Las Vegas\, NV 89109\, Las Vegas\, NV\, 89109\, US
END:VEVENT
BEGIN:VEVENT
DTSTART;TZID=UTC:20220409T210000
DTEND;TZID=UTC:20220410T013000
DTSTAMP:20260421T050449
CREATED:20211021T015328Z
LAST-MODIFIED:20220410T215510Z
UID:3616-1649538000-1649554200@sincityclubcrawl.com
SUMMARY:Sin City Club Crawl Packages
DESCRIPTION:Our Las Vegas Club Crawls include line passes\, no-cover/entry fees\, transportation and complimentary drinks!\n\n\n  \nSelect the number of male/female guests below then click the checkout button to purchase your club crawl tickets! \nCheck in is at Blondies in the Planet Hollywood hotel. Map of pickup location is below. Final destination is last nightclub.
URL:https://sincityclubcrawl.com/event/sin-city-club-crawl-packages-73/
LOCATION:Untitled
ATTACH;FMTTYPE=image/jpeg:https://sincityclubcrawl.com/wp-content/uploads/2021/07/772_image.jpg
END:VEVENT
BEGIN:VEVENT
DTSTART;TZID=UTC:20220415T113000
DTEND;TZID=UTC:20220415T143000
DTSTAMP:20260421T050449
CREATED:20220305T035240Z
LAST-MODIFIED:20220416T115515Z
UID:7085-1650022200-1650033000@sincityclubcrawl.com
SUMMARY:Sin City Club Crawl Pool Tour
DESCRIPTION:Party bus Pool Crawl\n\n\n 11:30am- Check in at Go Pool at The Flamingo \n2nd Pool- To be announced \n3rd Pool- Elia Beach club at The Virgin hotel \nYou will arrive at the last pool between 2:30-3 pm. The tour ends at the last pool. \n \nPackage Includes: \nAdmission to 3 pool parties \nParty bus transportation to the pools \n Complimentary drinks and waters \nParty hosts
URL:https://sincityclubcrawl.com/event/2022-pool-tour-3/
LOCATION:Las Vegas\, 3400 S. Las Vegas Blvd\, Las Vegas\, NV 89109\, Las Vegas\, NV\, 89109\, US
END:VEVENT
BEGIN:VEVENT
DTSTART;TZID=UTC:20220415T210000
DTEND;TZID=UTC:20220416T013000
DTSTAMP:20260421T050449
CREATED:20211021T015329Z
LAST-MODIFIED:20220416T215321Z
UID:3617-1650056400-1650072600@sincityclubcrawl.com
SUMMARY:Sin City Club Crawl Packages
DESCRIPTION:Our Las Vegas Club Crawls include line passes\, no-cover/entry fees\, transportation and complimentary drinks!\n\n\n  \nSelect the number of male/female guests below then click the checkout button to purchase your club crawl tickets! \nCheck in is at Blondies in the Planet Hollywood hotel. Map of pickup location is below. Final destination is last nightclub.
URL:https://sincityclubcrawl.com/event/sin-city-club-crawl-packages-74/
LOCATION:Untitled
ATTACH;FMTTYPE=image/jpeg:https://sincityclubcrawl.com/wp-content/uploads/2021/07/772_image.jpg
END:VEVENT
BEGIN:VEVENT
DTSTART;TZID=UTC:20220416T113000
DTEND;TZID=UTC:20220416T143000
DTSTAMP:20260421T050449
CREATED:20220305T035242Z
LAST-MODIFIED:20220417T075615Z
UID:7086-1650108600-1650119400@sincityclubcrawl.com
SUMMARY:Sin City Club Crawl Pool Tour
DESCRIPTION:Party bus Pool Crawl\n\n\n 11:30am- Check in at Go Pool at The Flamingo \n2nd Pool- To be announced \n3rd Pool- Elia Beach club at The Virgin hotel \nYou will arrive at the last pool between 2:30-3 pm. The tour ends at the last pool. \n \nPackage Includes: \nAdmission to 3 pool parties \nParty bus transportation to the pools \n Complimentary drinks and waters \nParty hosts
URL:https://sincityclubcrawl.com/event/2022-pool-tour-4/
LOCATION:Las Vegas\, 3400 S. Las Vegas Blvd\, Las Vegas\, NV 89109\, Las Vegas\, NV\, 89109\, US
END:VEVENT
BEGIN:VEVENT
DTSTART;TZID=UTC:20220416T210000
DTEND;TZID=UTC:20220417T013000
DTSTAMP:20260421T050449
CREATED:20211021T015331Z
LAST-MODIFIED:20220417T175333Z
UID:3618-1650142800-1650159000@sincityclubcrawl.com
SUMMARY:Sin City Club Crawl Packages
DESCRIPTION:Our Las Vegas Club Crawls include line passes\, no-cover/entry fees\, transportation and complimentary drinks!\n\n\n  \nSelect the number of male/female guests below then click the checkout button to purchase your club crawl tickets! \nCheck in is at Blondies in the Planet Hollywood hotel. Map of pickup location is below. Final destination is last nightclub.
URL:https://sincityclubcrawl.com/event/sin-city-club-crawl-packages-75/
LOCATION:Untitled
ATTACH;FMTTYPE=image/jpeg:https://sincityclubcrawl.com/wp-content/uploads/2021/07/772_image.jpg
END:VEVENT
BEGIN:VEVENT
DTSTART;TZID=UTC:20220422T113000
DTEND;TZID=UTC:20220422T143000
DTSTAMP:20260421T050449
CREATED:20220305T035245Z
LAST-MODIFIED:20220423T075224Z
UID:7087-1650627000-1650637800@sincityclubcrawl.com
SUMMARY:Sin City Club Crawl Pool Tour
DESCRIPTION:Party bus Pool Crawl\n\n\n 11:30am- Check in at Go Pool at The Flamingo \n2nd Pool- To be announced \n3rd Pool- Elia Beach club at The Virgin hotel \nYou will arrive at the last pool between 2:30-3 pm. The tour ends at the last pool. \n \nPackage Includes: \nAdmission to 3 pool parties \nParty bus transportation to the pools \n Complimentary drinks and waters \nParty hosts
URL:https://sincityclubcrawl.com/event/2022-pool-tour-5/
LOCATION:Las Vegas\, 3400 S. Las Vegas Blvd\, Las Vegas\, NV 89109\, Las Vegas\, NV\, 89109\, US
END:VEVENT
BEGIN:VEVENT
DTSTART;TZID=UTC:20220422T210000
DTEND;TZID=UTC:20220423T013000
DTSTAMP:20260421T050449
CREATED:20211021T015332Z
LAST-MODIFIED:20220423T175501Z
UID:3619-1650661200-1650677400@sincityclubcrawl.com
SUMMARY:Sin City Club Crawl Packages
DESCRIPTION:Our Las Vegas Club Crawls include line passes\, no-cover/entry fees\, transportation and complimentary drinks!\n\n\n  \nSelect the number of male/female guests below then click the checkout button to purchase your club crawl tickets! \nCheck in is at Blondies in the Planet Hollywood hotel. Map of pickup location is below. Final destination is last nightclub.
URL:https://sincityclubcrawl.com/event/sin-city-club-crawl-packages-76/
LOCATION:Untitled
ATTACH;FMTTYPE=image/jpeg:https://sincityclubcrawl.com/wp-content/uploads/2021/07/772_image.jpg
END:VEVENT
BEGIN:VEVENT
DTSTART;TZID=UTC:20220423T113000
DTEND;TZID=UTC:20220423T143000
DTSTAMP:20260421T050449
CREATED:20220305T035248Z
LAST-MODIFIED:20220424T075227Z
UID:7088-1650713400-1650724200@sincityclubcrawl.com
SUMMARY:Sin City Club Crawl Pool Tour
DESCRIPTION:Party bus Pool Crawl\n\n\n 11:30am- Check in at Go Pool at The Flamingo \n2nd Pool- To be announced \n3rd Pool- Elia Beach club at The Virgin hotel \nYou will arrive at the last pool between 2:30-3 pm. The tour ends at the last pool. \n \nPackage Includes: \nAdmission to 3 pool parties \nParty bus transportation to the pools \n Complimentary drinks and waters \nParty hosts
URL:https://sincityclubcrawl.com/event/2022-pool-tour-6/
LOCATION:Las Vegas\, 3400 S. Las Vegas Blvd\, Las Vegas\, NV 89109\, Las Vegas\, NV\, 89109\, US
END:VEVENT
BEGIN:VEVENT
DTSTART;TZID=UTC:20220423T210000
DTEND;TZID=UTC:20220424T013000
DTSTAMP:20260421T050449
CREATED:20211021T015334Z
LAST-MODIFIED:20220424T175920Z
UID:3620-1650747600-1650763800@sincityclubcrawl.com
SUMMARY:Sin City Club Crawl Packages
DESCRIPTION:Our Las Vegas Club Crawls include line passes\, no-cover/entry fees\, transportation and complimentary drinks!\n\n\n  \nSelect the number of male/female guests below then click the checkout button to purchase your club crawl tickets! \nCheck in is at Blondies in the Planet Hollywood hotel. Map of pickup location is below. Final destination is last nightclub.
URL:https://sincityclubcrawl.com/event/sin-city-club-crawl-packages-77/
LOCATION:Untitled
ATTACH;FMTTYPE=image/jpeg:https://sincityclubcrawl.com/wp-content/uploads/2021/07/772_image.jpg
END:VEVENT
BEGIN:VEVENT
DTSTART;TZID=UTC:20220429T113000
DTEND;TZID=UTC:20220429T143000
DTSTAMP:20260421T050449
CREATED:20220305T035250Z
LAST-MODIFIED:20220430T115512Z
UID:7089-1651231800-1651242600@sincityclubcrawl.com
SUMMARY:Sin City Club Crawl Pool Tour
DESCRIPTION:Party bus Pool Crawl\n\n\n 11:30am- Check in at Go Pool at The Flamingo \n2nd Pool- To be announced \n3rd Pool- Elia Beach club at The Virgin hotel \nYou will arrive at the last pool between 2:30-3 pm. The tour ends at the last pool. \n \nPackage Includes: \nAdmission to 3 pool parties \nParty bus transportation to the pools \n Complimentary drinks and waters \nParty hosts
URL:https://sincityclubcrawl.com/event/2022-pool-tour-7/
LOCATION:Las Vegas\, 3400 S. Las Vegas Blvd\, Las Vegas\, NV 89109\, Las Vegas\, NV\, 89109\, US
END:VEVENT
BEGIN:VEVENT
DTSTART;TZID=UTC:20220429T210000
DTEND;TZID=UTC:20220430T013000
DTSTAMP:20260421T050449
CREATED:20211021T015335Z
LAST-MODIFIED:20220430T225712Z
UID:3621-1651266000-1651282200@sincityclubcrawl.com
SUMMARY:Sin City Club Crawl Packages
DESCRIPTION:Our Las Vegas Club Crawls include line passes\, no-cover/entry fees\, transportation and complimentary drinks!\n\n\n  \nSelect the number of male/female guests below then click the checkout button to purchase your club crawl tickets! \nCheck in is at Blondies in the Planet Hollywood hotel. Map of pickup location is below. Final destination is last nightclub.
URL:https://sincityclubcrawl.com/event/sin-city-club-crawl-packages-78/
LOCATION:Untitled
ATTACH;FMTTYPE=image/jpeg:https://sincityclubcrawl.com/wp-content/uploads/2021/07/772_image.jpg
END:VEVENT
BEGIN:VEVENT
DTSTART;TZID=UTC:20220430T113000
DTEND;TZID=UTC:20220430T143000
DTSTAMP:20260421T050449
CREATED:20220305T035253Z
LAST-MODIFIED:20220501T120106Z
UID:7090-1651318200-1651329000@sincityclubcrawl.com
SUMMARY:Sin City Club Crawl Pool Tour
DESCRIPTION:Party bus Pool Crawl\n\n\n 11:30am- Check in at Go Pool at The Flamingo \n2nd Pool- To be announced \n3rd Pool- Elia Beach club at The Virgin hotel \nYou will arrive at the last pool between 2:30-3 pm. The tour ends at the last pool. \n \nPackage Includes: \nAdmission to 3 pool parties \nParty bus transportation to the pools \n Complimentary drinks and waters \nParty hosts
URL:https://sincityclubcrawl.com/event/2022-pool-tour-8/
LOCATION:Las Vegas\, 3400 S. Las Vegas Blvd\, Las Vegas\, NV 89109\, Las Vegas\, NV\, 89109\, US
END:VEVENT
BEGIN:VEVENT
DTSTART;TZID=UTC:20220430T210000
DTEND;TZID=UTC:20220501T013000
DTSTAMP:20260421T050449
CREATED:20211021T015336Z
LAST-MODIFIED:20220501T221302Z
UID:3622-1651352400-1651368600@sincityclubcrawl.com
SUMMARY:Sin City Club Crawl Packages
DESCRIPTION:Our Las Vegas Club Crawls include line passes\, no-cover/entry fees\, transportation and complimentary drinks!\n\n\n  \nSelect the number of male/female guests below then click the checkout button to purchase your club crawl tickets! \nCheck in is at Blondies in the Planet Hollywood hotel. Map of pickup location is below. Final destination is last nightclub.
URL:https://sincityclubcrawl.com/event/sin-city-club-crawl-packages-79/
LOCATION:Untitled
ATTACH;FMTTYPE=image/jpeg:https://sincityclubcrawl.com/wp-content/uploads/2021/07/772_image.jpg
END:VEVENT
END:VCALENDAR