BEGIN:VCALENDAR
VERSION:2.0
PRODID:-//Sin City Club Crawl | Las Vegas Party Bus Tours | VIP Entry Nightclubs &amp; Pooll - ECPv6.15.20//NONSGML v1.0//EN
CALSCALE:GREGORIAN
METHOD:PUBLISH
X-ORIGINAL-URL:https://sincityclubcrawl.com
X-WR-CALDESC:Events for Sin City Club Crawl | Las Vegas Party Bus Tours | VIP Entry Nightclubs &amp; Pooll
REFRESH-INTERVAL;VALUE=DURATION:PT1H
X-Robots-Tag:noindex
X-PUBLISHED-TTL:PT1H
BEGIN:VTIMEZONE
TZID:America/Los_Angeles
BEGIN:DAYLIGHT
TZOFFSETFROM:-0800
TZOFFSETTO:-0700
TZNAME:PDT
DTSTART:20140309T100000
END:DAYLIGHT
BEGIN:STANDARD
TZOFFSETFROM:-0700
TZOFFSETTO:-0800
TZNAME:PST
DTSTART:20141102T090000
END:STANDARD
BEGIN:DAYLIGHT
TZOFFSETFROM:-0800
TZOFFSETTO:-0700
TZNAME:PDT
DTSTART:20150308T100000
END:DAYLIGHT
BEGIN:STANDARD
TZOFFSETFROM:-0700
TZOFFSETTO:-0800
TZNAME:PST
DTSTART:20151101T090000
END:STANDARD
BEGIN:DAYLIGHT
TZOFFSETFROM:-0800
TZOFFSETTO:-0700
TZNAME:PDT
DTSTART:20160313T100000
END:DAYLIGHT
BEGIN:STANDARD
TZOFFSETFROM:-0700
TZOFFSETTO:-0800
TZNAME:PST
DTSTART:20161106T090000
END:STANDARD
BEGIN:DAYLIGHT
TZOFFSETFROM:-0800
TZOFFSETTO:-0700
TZNAME:PDT
DTSTART:20170312T100000
END:DAYLIGHT
BEGIN:STANDARD
TZOFFSETFROM:-0700
TZOFFSETTO:-0800
TZNAME:PST
DTSTART:20171105T090000
END:STANDARD
BEGIN:DAYLIGHT
TZOFFSETFROM:-0800
TZOFFSETTO:-0700
TZNAME:PDT
DTSTART:20180311T100000
END:DAYLIGHT
BEGIN:STANDARD
TZOFFSETFROM:-0700
TZOFFSETTO:-0800
TZNAME:PST
DTSTART:20181104T090000
END:STANDARD
BEGIN:DAYLIGHT
TZOFFSETFROM:-0800
TZOFFSETTO:-0700
TZNAME:PDT
DTSTART:20190310T100000
END:DAYLIGHT
BEGIN:STANDARD
TZOFFSETFROM:-0700
TZOFFSETTO:-0800
TZNAME:PST
DTSTART:20191103T090000
END:STANDARD
BEGIN:DAYLIGHT
TZOFFSETFROM:-0800
TZOFFSETTO:-0700
TZNAME:PDT
DTSTART:20200308T100000
END:DAYLIGHT
BEGIN:STANDARD
TZOFFSETFROM:-0700
TZOFFSETTO:-0800
TZNAME:PST
DTSTART:20201101T090000
END:STANDARD
BEGIN:DAYLIGHT
TZOFFSETFROM:-0800
TZOFFSETTO:-0700
TZNAME:PDT
DTSTART:20210314T100000
END:DAYLIGHT
BEGIN:STANDARD
TZOFFSETFROM:-0700
TZOFFSETTO:-0800
TZNAME:PST
DTSTART:20211107T090000
END:STANDARD
BEGIN:DAYLIGHT
TZOFFSETFROM:-0800
TZOFFSETTO:-0700
TZNAME:PDT
DTSTART:20220313T100000
END:DAYLIGHT
BEGIN:STANDARD
TZOFFSETFROM:-0700
TZOFFSETTO:-0800
TZNAME:PST
DTSTART:20221106T090000
END:STANDARD
BEGIN:DAYLIGHT
TZOFFSETFROM:-0800
TZOFFSETTO:-0700
TZNAME:PDT
DTSTART:20230312T100000
END:DAYLIGHT
BEGIN:STANDARD
TZOFFSETFROM:-0700
TZOFFSETTO:-0800
TZNAME:PST
DTSTART:20231105T090000
END:STANDARD
BEGIN:DAYLIGHT
TZOFFSETFROM:-0800
TZOFFSETTO:-0700
TZNAME:PDT
DTSTART:20240310T100000
END:DAYLIGHT
BEGIN:STANDARD
TZOFFSETFROM:-0700
TZOFFSETTO:-0800
TZNAME:PST
DTSTART:20241103T090000
END:STANDARD
BEGIN:DAYLIGHT
TZOFFSETFROM:-0800
TZOFFSETTO:-0700
TZNAME:PDT
DTSTART:20250309T100000
END:DAYLIGHT
BEGIN:STANDARD
TZOFFSETFROM:-0700
TZOFFSETTO:-0800
TZNAME:PST
DTSTART:20251102T090000
END:STANDARD
BEGIN:DAYLIGHT
TZOFFSETFROM:-0800
TZOFFSETTO:-0700
TZNAME:PDT
DTSTART:20260308T100000
END:DAYLIGHT
BEGIN:STANDARD
TZOFFSETFROM:-0700
TZOFFSETTO:-0800
TZNAME:PST
DTSTART:20261101T090000
END:STANDARD
END:VTIMEZONE
BEGIN:VTIMEZONE
TZID:UTC
BEGIN:STANDARD
TZOFFSETFROM:+0000
TZOFFSETTO:+0000
TZNAME:UTC
DTSTART:20210101T000000
END:STANDARD
END:VTIMEZONE
BEGIN:VEVENT
DTSTART;TZID=America/Los_Angeles:20150709T210000
DTEND;TZID=America/Los_Angeles:20251221T013000
DTSTAMP:20260421T102201
CREATED:20241231T063404Z
LAST-MODIFIED:20241231T070736Z
UID:35497-1436475600-1766280600@sincityclubcrawl.com
SUMMARY:Sin City Club Crawl Packages
DESCRIPTION:Our Las Vegas Club Crawls include line passes\, no-cover/entry fees\, transportation and complimentary drinks!\n\n\nSelect the number of male/female guests below then click the checkout button to purchase your club crawl tickets!\nCheck in is at Blondies in the Planet Hollywood hotel. Map of pickup location is below. Final destination is last nightclub.
URL:https://sincityclubcrawl.com/event/sin-city-club-crawl-packages-468/
LOCATION:Check in at Blondies in the Planet Hollywood Hotel\, 3663 Las Vegas Blvd S Las Vegas\, Las Vegas\, NV 89109\, Las Vegas\, NV\, 89109\, US
ATTACH;FMTTYPE=image/jpeg:https://sincityclubcrawl.com/wp-content/uploads/2024/12/35497_image.jpg
END:VEVENT
BEGIN:VEVENT
DTSTART;TZID=UTC:20220101T210000
DTEND;TZID=UTC:20220102T020000
DTSTAMP:20260421T102201
CREATED:20210922T035534Z
LAST-MODIFIED:20220102T175736Z
UID:2841-1641070800-1641088800@sincityclubcrawl.com
SUMMARY:Sin City Club Crawl Packages
DESCRIPTION:Our Las Vegas Club Crawls include line passes\, no-cover/entry fees\, transportation and complimentary drinks!\n\n\n  \nSelect the number of male/female guests below then click the checkout button to purchase your club crawl tickets! \nCheck in is at Blondies in the Planet Hollywood hotel. Map of pickup location is below. Final destination is last nightclub.
URL:https://sincityclubcrawl.com/event/sin-city-club-crawl-packages-45/
LOCATION:Untitled
ATTACH;FMTTYPE=image/jpeg:https://sincityclubcrawl.com/wp-content/uploads/2021/07/772_image.jpg
END:VEVENT
BEGIN:VEVENT
DTSTART;TZID=UTC:20220107T210000
DTEND;TZID=UTC:20220108T020000
DTSTAMP:20260421T102201
CREATED:20210922T035536Z
LAST-MODIFIED:20220108T175546Z
UID:2842-1641589200-1641607200@sincityclubcrawl.com
SUMMARY:Sin City Club Crawl Packages
DESCRIPTION:Our Las Vegas Club Crawls include line passes\, no-cover/entry fees\, transportation and complimentary drinks!\n\n\n  \nSelect the number of male/female guests below then click the checkout button to purchase your club crawl tickets! \nCheck in is at Blondies in the Planet Hollywood hotel. Map of pickup location is below. Final destination is last nightclub.
URL:https://sincityclubcrawl.com/event/sin-city-club-crawl-packages-46/
LOCATION:Untitled
ATTACH;FMTTYPE=image/jpeg:https://sincityclubcrawl.com/wp-content/uploads/2021/07/772_image.jpg
END:VEVENT
BEGIN:VEVENT
DTSTART;TZID=UTC:20220108T210000
DTEND;TZID=UTC:20220109T020000
DTSTAMP:20260421T102201
CREATED:20210922T035537Z
LAST-MODIFIED:20220109T185407Z
UID:2843-1641675600-1641693600@sincityclubcrawl.com
SUMMARY:Sin City Club Crawl Packages
DESCRIPTION:Our Las Vegas Club Crawls include line passes\, no-cover/entry fees\, transportation and complimentary drinks!\n\n\n  \nSelect the number of male/female guests below then click the checkout button to purchase your club crawl tickets! \nCheck in is at Blondies in the Planet Hollywood hotel. Map of pickup location is below. Final destination is last nightclub.
URL:https://sincityclubcrawl.com/event/sin-city-club-crawl-packages-47/
LOCATION:Untitled
ATTACH;FMTTYPE=image/jpeg:https://sincityclubcrawl.com/wp-content/uploads/2021/07/772_image.jpg
END:VEVENT
BEGIN:VEVENT
DTSTART;TZID=UTC:20220114T210000
DTEND;TZID=UTC:20220115T020000
DTSTAMP:20260421T102201
CREATED:20210922T035538Z
LAST-MODIFIED:20220115T180148Z
UID:2844-1642194000-1642212000@sincityclubcrawl.com
SUMMARY:Sin City Club Crawl Packages
DESCRIPTION:Our Las Vegas Club Crawls include line passes\, no-cover/entry fees\, transportation and complimentary drinks!\n\n\n  \nSelect the number of male/female guests below then click the checkout button to purchase your club crawl tickets! \nCheck in is at Blondies in the Planet Hollywood hotel. Map of pickup location is below. Final destination is last nightclub.
URL:https://sincityclubcrawl.com/event/sin-city-club-crawl-packages-48/
LOCATION:Untitled
ATTACH;FMTTYPE=image/jpeg:https://sincityclubcrawl.com/wp-content/uploads/2021/07/772_image.jpg
END:VEVENT
BEGIN:VEVENT
DTSTART;TZID=UTC:20220115T210000
DTEND;TZID=UTC:20220116T020000
DTSTAMP:20260421T102201
CREATED:20210922T035540Z
LAST-MODIFIED:20220116T175218Z
UID:2845-1642280400-1642298400@sincityclubcrawl.com
SUMMARY:Sin City Club Crawl Packages
DESCRIPTION:Our Las Vegas Club Crawls include line passes\, no-cover/entry fees\, transportation and complimentary drinks!\n\n\n  \nSelect the number of male/female guests below then click the checkout button to purchase your club crawl tickets! \nCheck in is at Blondies in the Planet Hollywood hotel. Map of pickup location is below. Final destination is last nightclub.
URL:https://sincityclubcrawl.com/event/sin-city-club-crawl-packages-49/
LOCATION:Untitled
ATTACH;FMTTYPE=image/jpeg:https://sincityclubcrawl.com/wp-content/uploads/2021/07/772_image.jpg
END:VEVENT
BEGIN:VEVENT
DTSTART;TZID=UTC:20220121T210000
DTEND;TZID=UTC:20220122T020000
DTSTAMP:20260421T102201
CREATED:20210922T035541Z
LAST-MODIFIED:20220122T185425Z
UID:2846-1642798800-1642816800@sincityclubcrawl.com
SUMMARY:Sin City Club Crawl Packages
DESCRIPTION:Our Las Vegas Club Crawls include line passes\, no-cover/entry fees\, transportation and complimentary drinks!\n\n\n  \nSelect the number of male/female guests below then click the checkout button to purchase your club crawl tickets! \nCheck in is at Blondies in the Planet Hollywood hotel. Map of pickup location is below. Final destination is last nightclub.
URL:https://sincityclubcrawl.com/event/sin-city-club-crawl-packages-50/
LOCATION:Untitled
ATTACH;FMTTYPE=image/jpeg:https://sincityclubcrawl.com/wp-content/uploads/2021/07/772_image.jpg
END:VEVENT
BEGIN:VEVENT
DTSTART;TZID=UTC:20220122T210000
DTEND;TZID=UTC:20220123T020000
DTSTAMP:20260421T102201
CREATED:20210922T035542Z
LAST-MODIFIED:20220123T190227Z
UID:2847-1642885200-1642903200@sincityclubcrawl.com
SUMMARY:Sin City Club Crawl Packages
DESCRIPTION:Our Las Vegas Club Crawls include line passes\, no-cover/entry fees\, transportation and complimentary drinks!\n\n\n  \nSelect the number of male/female guests below then click the checkout button to purchase your club crawl tickets! \nCheck in is at Blondies in the Planet Hollywood hotel. Map of pickup location is below. Final destination is last nightclub.
URL:https://sincityclubcrawl.com/event/sin-city-club-crawl-packages-51/
LOCATION:Untitled
ATTACH;FMTTYPE=image/jpeg:https://sincityclubcrawl.com/wp-content/uploads/2021/07/772_image.jpg
END:VEVENT
BEGIN:VEVENT
DTSTART;TZID=UTC:20220128T210000
DTEND;TZID=UTC:20220129T020000
DTSTAMP:20260421T102201
CREATED:20210922T035543Z
LAST-MODIFIED:20220129T185301Z
UID:2848-1643403600-1643421600@sincityclubcrawl.com
SUMMARY:Sin City Club Crawl Packages
DESCRIPTION:Our Las Vegas Club Crawls include line passes\, no-cover/entry fees\, transportation and complimentary drinks!\n\n\n  \nSelect the number of male/female guests below then click the checkout button to purchase your club crawl tickets! \nCheck in is at Blondies in the Planet Hollywood hotel. Map of pickup location is below. Final destination is last nightclub.
URL:https://sincityclubcrawl.com/event/sin-city-club-crawl-packages-52/
LOCATION:Untitled
ATTACH;FMTTYPE=image/jpeg:https://sincityclubcrawl.com/wp-content/uploads/2021/07/772_image.jpg
END:VEVENT
BEGIN:VEVENT
DTSTART;TZID=UTC:20220129T210000
DTEND;TZID=UTC:20220130T020000
DTSTAMP:20260421T102201
CREATED:20210922T035545Z
LAST-MODIFIED:20220130T185230Z
UID:2849-1643490000-1643508000@sincityclubcrawl.com
SUMMARY:Sin City Club Crawl Packages
DESCRIPTION:Our Las Vegas Club Crawls include line passes\, no-cover/entry fees\, transportation and complimentary drinks!\n\n\n  \nSelect the number of male/female guests below then click the checkout button to purchase your club crawl tickets! \nCheck in is at Blondies in the Planet Hollywood hotel. Map of pickup location is below. Final destination is last nightclub.
URL:https://sincityclubcrawl.com/event/sin-city-club-crawl-packages-53/
LOCATION:Untitled
ATTACH;FMTTYPE=image/jpeg:https://sincityclubcrawl.com/wp-content/uploads/2021/07/772_image.jpg
END:VEVENT
END:VCALENDAR