BEGIN:VCALENDAR
VERSION:2.0
PRODID:-//Sin City Club Crawl | Las Vegas Party Bus Tours | VIP Entry Nightclubs &amp; Pooll - ECPv6.15.20//NONSGML v1.0//EN
CALSCALE:GREGORIAN
METHOD:PUBLISH
X-ORIGINAL-URL:https://sincityclubcrawl.com
X-WR-CALDESC:Events for Sin City Club Crawl | Las Vegas Party Bus Tours | VIP Entry Nightclubs &amp; Pooll
REFRESH-INTERVAL;VALUE=DURATION:PT1H
X-Robots-Tag:noindex
X-PUBLISHED-TTL:PT1H
BEGIN:VTIMEZONE
TZID:America/Los_Angeles
BEGIN:DAYLIGHT
TZOFFSETFROM:-0800
TZOFFSETTO:-0700
TZNAME:PDT
DTSTART:20140309T100000
END:DAYLIGHT
BEGIN:STANDARD
TZOFFSETFROM:-0700
TZOFFSETTO:-0800
TZNAME:PST
DTSTART:20141102T090000
END:STANDARD
BEGIN:DAYLIGHT
TZOFFSETFROM:-0800
TZOFFSETTO:-0700
TZNAME:PDT
DTSTART:20150308T100000
END:DAYLIGHT
BEGIN:STANDARD
TZOFFSETFROM:-0700
TZOFFSETTO:-0800
TZNAME:PST
DTSTART:20151101T090000
END:STANDARD
BEGIN:DAYLIGHT
TZOFFSETFROM:-0800
TZOFFSETTO:-0700
TZNAME:PDT
DTSTART:20160313T100000
END:DAYLIGHT
BEGIN:STANDARD
TZOFFSETFROM:-0700
TZOFFSETTO:-0800
TZNAME:PST
DTSTART:20161106T090000
END:STANDARD
BEGIN:DAYLIGHT
TZOFFSETFROM:-0800
TZOFFSETTO:-0700
TZNAME:PDT
DTSTART:20170312T100000
END:DAYLIGHT
BEGIN:STANDARD
TZOFFSETFROM:-0700
TZOFFSETTO:-0800
TZNAME:PST
DTSTART:20171105T090000
END:STANDARD
BEGIN:DAYLIGHT
TZOFFSETFROM:-0800
TZOFFSETTO:-0700
TZNAME:PDT
DTSTART:20180311T100000
END:DAYLIGHT
BEGIN:STANDARD
TZOFFSETFROM:-0700
TZOFFSETTO:-0800
TZNAME:PST
DTSTART:20181104T090000
END:STANDARD
BEGIN:DAYLIGHT
TZOFFSETFROM:-0800
TZOFFSETTO:-0700
TZNAME:PDT
DTSTART:20190310T100000
END:DAYLIGHT
BEGIN:STANDARD
TZOFFSETFROM:-0700
TZOFFSETTO:-0800
TZNAME:PST
DTSTART:20191103T090000
END:STANDARD
BEGIN:DAYLIGHT
TZOFFSETFROM:-0800
TZOFFSETTO:-0700
TZNAME:PDT
DTSTART:20200308T100000
END:DAYLIGHT
BEGIN:STANDARD
TZOFFSETFROM:-0700
TZOFFSETTO:-0800
TZNAME:PST
DTSTART:20201101T090000
END:STANDARD
BEGIN:DAYLIGHT
TZOFFSETFROM:-0800
TZOFFSETTO:-0700
TZNAME:PDT
DTSTART:20210314T100000
END:DAYLIGHT
BEGIN:STANDARD
TZOFFSETFROM:-0700
TZOFFSETTO:-0800
TZNAME:PST
DTSTART:20211107T090000
END:STANDARD
BEGIN:DAYLIGHT
TZOFFSETFROM:-0800
TZOFFSETTO:-0700
TZNAME:PDT
DTSTART:20220313T100000
END:DAYLIGHT
BEGIN:STANDARD
TZOFFSETFROM:-0700
TZOFFSETTO:-0800
TZNAME:PST
DTSTART:20221106T090000
END:STANDARD
BEGIN:DAYLIGHT
TZOFFSETFROM:-0800
TZOFFSETTO:-0700
TZNAME:PDT
DTSTART:20230312T100000
END:DAYLIGHT
BEGIN:STANDARD
TZOFFSETFROM:-0700
TZOFFSETTO:-0800
TZNAME:PST
DTSTART:20231105T090000
END:STANDARD
BEGIN:DAYLIGHT
TZOFFSETFROM:-0800
TZOFFSETTO:-0700
TZNAME:PDT
DTSTART:20240310T100000
END:DAYLIGHT
BEGIN:STANDARD
TZOFFSETFROM:-0700
TZOFFSETTO:-0800
TZNAME:PST
DTSTART:20241103T090000
END:STANDARD
BEGIN:DAYLIGHT
TZOFFSETFROM:-0800
TZOFFSETTO:-0700
TZNAME:PDT
DTSTART:20250309T100000
END:DAYLIGHT
BEGIN:STANDARD
TZOFFSETFROM:-0700
TZOFFSETTO:-0800
TZNAME:PST
DTSTART:20251102T090000
END:STANDARD
BEGIN:DAYLIGHT
TZOFFSETFROM:-0800
TZOFFSETTO:-0700
TZNAME:PDT
DTSTART:20260308T100000
END:DAYLIGHT
BEGIN:STANDARD
TZOFFSETFROM:-0700
TZOFFSETTO:-0800
TZNAME:PST
DTSTART:20261101T090000
END:STANDARD
END:VTIMEZONE
BEGIN:VTIMEZONE
TZID:UTC
BEGIN:STANDARD
TZOFFSETFROM:+0000
TZOFFSETTO:+0000
TZNAME:UTC
DTSTART:20200101T000000
END:STANDARD
END:VTIMEZONE
BEGIN:VEVENT
DTSTART;TZID=America/Los_Angeles:20150709T210000
DTEND;TZID=America/Los_Angeles:20251221T013000
DTSTAMP:20260421T154050
CREATED:20241231T063404Z
LAST-MODIFIED:20241231T070736Z
UID:35497-1436475600-1766280600@sincityclubcrawl.com
SUMMARY:Sin City Club Crawl Packages
DESCRIPTION:Our Las Vegas Club Crawls include line passes\, no-cover/entry fees\, transportation and complimentary drinks!\n\n\nSelect the number of male/female guests below then click the checkout button to purchase your club crawl tickets!\nCheck in is at Blondies in the Planet Hollywood hotel. Map of pickup location is below. Final destination is last nightclub.
URL:https://sincityclubcrawl.com/event/sin-city-club-crawl-packages-468/
LOCATION:Check in at Blondies in the Planet Hollywood Hotel\, 3663 Las Vegas Blvd S Las Vegas\, Las Vegas\, NV 89109\, Las Vegas\, NV\, 89109\, US
ATTACH;FMTTYPE=image/jpeg:https://sincityclubcrawl.com/wp-content/uploads/2024/12/35497_image.jpg
END:VEVENT
BEGIN:VEVENT
DTSTART;TZID=UTC:20211001T213000
DTEND;TZID=UTC:20211002T020000
DTSTAMP:20260421T154050
CREATED:20210707T062749Z
LAST-MODIFIED:20211002T195548Z
UID:790-1633123800-1633140000@sincityclubcrawl.com
SUMMARY:Sin City Club Crawl Packages
DESCRIPTION:Our Las Vegas Club Crawls include line passes\, no-cover/entry fees\, transportation and complimentary drinks!\n\n\n  \nSelect the number of male/female guests below then click the checkout button to purchase your club crawl tickets! \nCheck in is at Blondies in the Planet Hollywood hotel. Map of pickup location is below. Final destination is last nightclub.
URL:https://sincityclubcrawl.com/event/sin-city-club-crawl-packages-19/
LOCATION:Untitled
ATTACH;FMTTYPE=image/jpeg:https://sincityclubcrawl.com/wp-content/uploads/2021/07/772_image.jpg
END:VEVENT
BEGIN:VEVENT
DTSTART;TZID=UTC:20211002T113000
DTEND;TZID=UTC:20211002T150000
DTSTAMP:20260421T154050
CREATED:20210903T095237Z
LAST-MODIFIED:20211003T105438Z
UID:2348-1633174200-1633186800@sincityclubcrawl.com
SUMMARY:Sin City Pool Tour
DESCRIPTION:Admission to 3 pool parties with party bus transportation\n\n\nSaturday– 11:30am- Check in at Bare Pool at the Mirage \n2nd Pool- Daylight at Mandalay Bay or Go Pool at the Flamingo \n3rd Pool- Elia Beach club at The Virgin hotel \nThe tour ends at the last pool \n*Party bus transportation to the pools with complimentary drinks and waters
URL:https://sincityclubcrawl.com/event/sin-city-pool-tour-4/
LOCATION:Bare Pool\, 3400 Las Vegas Blvd\, Las Vegas\, NV 89109\, Las Vegas\, NV\, 89109\, US
END:VEVENT
BEGIN:VEVENT
DTSTART;TZID=UTC:20211002T213000
DTEND;TZID=UTC:20211003T020000
DTSTAMP:20260421T154050
CREATED:20210707T062750Z
LAST-MODIFIED:20211003T195232Z
UID:791-1633210200-1633226400@sincityclubcrawl.com
SUMMARY:Sin City Club Crawl Packages
DESCRIPTION:Our Las Vegas Club Crawls include line passes\, no-cover/entry fees\, transportation and complimentary drinks!\n\n\n  \nSelect the number of male/female guests below then click the checkout button to purchase your club crawl tickets! \nCheck in is at Blondies in the Planet Hollywood hotel. Map of pickup location is below. Final destination is last nightclub.
URL:https://sincityclubcrawl.com/event/sin-city-club-crawl-packages-20/
LOCATION:Untitled
ATTACH;FMTTYPE=image/jpeg:https://sincityclubcrawl.com/wp-content/uploads/2021/07/772_image.jpg
END:VEVENT
BEGIN:VEVENT
DTSTART;TZID=UTC:20211008T213000
DTEND;TZID=UTC:20211009T020000
DTSTAMP:20260421T154050
CREATED:20210707T062750Z
LAST-MODIFIED:20211009T155413Z
UID:792-1633728600-1633744800@sincityclubcrawl.com
SUMMARY:Sin City Club Crawl Packages
DESCRIPTION:Our Las Vegas Club Crawls include line passes\, no-cover/entry fees\, transportation and complimentary drinks!\n\n\n  \nSelect the number of male/female guests below then click the checkout button to purchase your club crawl tickets! \nCheck in is at Blondies in the Planet Hollywood hotel. Map of pickup location is below. Final destination is last nightclub.
URL:https://sincityclubcrawl.com/event/sin-city-club-crawl-packages-21/
LOCATION:Untitled
ATTACH;FMTTYPE=image/jpeg:https://sincityclubcrawl.com/wp-content/uploads/2021/07/772_image.jpg
END:VEVENT
BEGIN:VEVENT
DTSTART;TZID=UTC:20211009T113000
DTEND;TZID=UTC:20211009T150000
DTSTAMP:20260421T154050
CREATED:20210903T095241Z
LAST-MODIFIED:20211010T105645Z
UID:2349-1633779000-1633791600@sincityclubcrawl.com
SUMMARY:Sin City Pool Tour
DESCRIPTION:Admission to 3 pool parties with party bus transportation\n\n\nSaturday– 11:30am- Check in at Bare Pool at the Mirage \n2nd Pool- Daylight at Mandalay Bay or Go Pool at the Flamingo \n3rd Pool- Elia Beach club at The Virgin hotel \nThe tour ends at the last pool \n*Party bus transportation to the pools with complimentary drinks and waters
URL:https://sincityclubcrawl.com/event/sin-city-pool-tour-5/
LOCATION:Bare Pool\, 3400 Las Vegas Blvd\, Las Vegas\, NV 89109\, Las Vegas\, NV\, 89109\, US
END:VEVENT
BEGIN:VEVENT
DTSTART;TZID=UTC:20211009T213000
DTEND;TZID=UTC:20211010T020000
DTSTAMP:20260421T154050
CREATED:20210707T062751Z
LAST-MODIFIED:20211010T195302Z
UID:793-1633815000-1633831200@sincityclubcrawl.com
SUMMARY:Sin City Club Crawl Packages
DESCRIPTION:Our Las Vegas Club Crawls include line passes\, no-cover/entry fees\, transportation and complimentary drinks!\n\n\n  \nSelect the number of male/female guests below then click the checkout button to purchase your club crawl tickets! \nCheck in is at Blondies in the Planet Hollywood hotel. Map of pickup location is below. Final destination is last nightclub.
URL:https://sincityclubcrawl.com/event/sin-city-club-crawl-packages-22/
LOCATION:Untitled
ATTACH;FMTTYPE=image/jpeg:https://sincityclubcrawl.com/wp-content/uploads/2021/07/772_image.jpg
END:VEVENT
BEGIN:VEVENT
DTSTART;TZID=UTC:20211015T213000
DTEND;TZID=UTC:20211016T020000
DTSTAMP:20260421T154050
CREATED:20210707T062752Z
LAST-MODIFIED:20211016T195747Z
UID:794-1634333400-1634349600@sincityclubcrawl.com
SUMMARY:Sin City Club Crawl Packages
DESCRIPTION:Our Las Vegas Club Crawls include line passes\, no-cover/entry fees\, transportation and complimentary drinks!\n\n\n  \nSelect the number of male/female guests below then click the checkout button to purchase your club crawl tickets! \nCheck in is at Blondies in the Planet Hollywood hotel. Map of pickup location is below. Final destination is last nightclub.
URL:https://sincityclubcrawl.com/event/sin-city-club-crawl-packages-23/
LOCATION:Untitled
ATTACH;FMTTYPE=image/jpeg:https://sincityclubcrawl.com/wp-content/uploads/2021/07/772_image.jpg
END:VEVENT
BEGIN:VEVENT
DTSTART;TZID=UTC:20211016T113000
DTEND;TZID=UTC:20211016T150000
DTSTAMP:20260421T154050
CREATED:20210903T095247Z
LAST-MODIFIED:20211017T075219Z
UID:2350-1634383800-1634396400@sincityclubcrawl.com
SUMMARY:Sin City Pool Tour
DESCRIPTION:Admission to 3 pool parties with party bus transportation\n\n\nSaturday– 11:30am- Check in at Bare Pool at the Mirage \n2nd Pool- Daylight at Mandalay Bay or Go Pool at the Flamingo \n3rd Pool- Elia Beach club at The Virgin hotel \nThe tour ends at the last pool \n*Party bus transportation to the pools with complimentary drinks and waters
URL:https://sincityclubcrawl.com/event/sin-city-pool-tour-6/
LOCATION:Bare Pool\, 3400 Las Vegas Blvd\, Las Vegas\, NV 89109\, Las Vegas\, NV\, 89109\, US
END:VEVENT
BEGIN:VEVENT
DTSTART;TZID=UTC:20211016T213000
DTEND;TZID=UTC:20211017T020000
DTSTAMP:20260421T154050
CREATED:20210707T062752Z
LAST-MODIFIED:20211017T155248Z
UID:795-1634419800-1634436000@sincityclubcrawl.com
SUMMARY:Sin City Club Crawl Packages
DESCRIPTION:Our Las Vegas Club Crawls include line passes\, no-cover/entry fees\, transportation and complimentary drinks!\n\n\n  \nSelect the number of male/female guests below then click the checkout button to purchase your club crawl tickets! \nCheck in is at Blondies in the Planet Hollywood hotel. Map of pickup location is below. Final destination is last nightclub.
URL:https://sincityclubcrawl.com/event/sin-city-club-crawl-packages-24/
LOCATION:Untitled
ATTACH;FMTTYPE=image/jpeg:https://sincityclubcrawl.com/wp-content/uploads/2021/07/772_image.jpg
END:VEVENT
BEGIN:VEVENT
DTSTART;TZID=UTC:20211022T213000
DTEND;TZID=UTC:20211023T020000
DTSTAMP:20260421T154050
CREATED:20210707T062753Z
LAST-MODIFIED:20211023T195604Z
UID:796-1634938200-1634954400@sincityclubcrawl.com
SUMMARY:Sin City Club Crawl Packages
DESCRIPTION:Our Las Vegas Club Crawls include line passes\, no-cover/entry fees\, transportation and complimentary drinks!\n\n\n  \nSelect the number of male/female guests below then click the checkout button to purchase your club crawl tickets! \nCheck in is at Blondies in the Planet Hollywood hotel. Map of pickup location is below. Final destination is last nightclub.
URL:https://sincityclubcrawl.com/event/sin-city-club-crawl-packages-25/
LOCATION:Untitled
ATTACH;FMTTYPE=image/jpeg:https://sincityclubcrawl.com/wp-content/uploads/2021/07/772_image.jpg
END:VEVENT
BEGIN:VEVENT
DTSTART;TZID=UTC:20211023T213000
DTEND;TZID=UTC:20211024T020000
DTSTAMP:20260421T154050
CREATED:20210707T062754Z
LAST-MODIFIED:20211024T155605Z
UID:797-1635024600-1635040800@sincityclubcrawl.com
SUMMARY:Sin City Club Crawl Packages
DESCRIPTION:Our Las Vegas Club Crawls include line passes\, no-cover/entry fees\, transportation and complimentary drinks!\n\n\n  \nSelect the number of male/female guests below then click the checkout button to purchase your club crawl tickets! \nCheck in is at Blondies in the Planet Hollywood hotel. Map of pickup location is below. Final destination is last nightclub.
URL:https://sincityclubcrawl.com/event/sin-city-club-crawl-packages-26/
LOCATION:Untitled
ATTACH;FMTTYPE=image/jpeg:https://sincityclubcrawl.com/wp-content/uploads/2021/07/772_image.jpg
END:VEVENT
BEGIN:VEVENT
DTSTART;TZID=UTC:20211029T213000
DTEND;TZID=UTC:20211030T020000
DTSTAMP:20260421T154050
CREATED:20210707T062756Z
LAST-MODIFIED:20211030T165516Z
UID:798-1635543000-1635559200@sincityclubcrawl.com
SUMMARY:Sin City Club Crawl Packages
DESCRIPTION:Our Las Vegas Club Crawls include line passes\, no-cover/entry fees\, transportation and complimentary drinks!\n\n\n  \nSelect the number of male/female guests below then click the checkout button to purchase your club crawl tickets! \nCheck in is at Blondies in the Planet Hollywood hotel. Map of pickup location is below. Final destination is last nightclub.
URL:https://sincityclubcrawl.com/event/sin-city-club-crawl-packages-27/
LOCATION:Untitled
ATTACH;FMTTYPE=image/jpeg:https://sincityclubcrawl.com/wp-content/uploads/2021/07/772_image.jpg
END:VEVENT
BEGIN:VEVENT
DTSTART;TZID=UTC:20211030T213000
DTEND;TZID=UTC:20211031T020000
DTSTAMP:20260421T154050
CREATED:20210707T062756Z
LAST-MODIFIED:20211031T165311Z
UID:799-1635629400-1635645600@sincityclubcrawl.com
SUMMARY:Sin City Club Crawl Packages
DESCRIPTION:Our Las Vegas Club Crawls include line passes\, no-cover/entry fees\, transportation and complimentary drinks!\n\n\n  \nSelect the number of male/female guests below then click the checkout button to purchase your club crawl tickets! \nCheck in is at Blondies in the Planet Hollywood hotel. Map of pickup location is below. Final destination is last nightclub.
URL:https://sincityclubcrawl.com/event/sin-city-club-crawl-packages-28/
LOCATION:Untitled
ATTACH;FMTTYPE=image/jpeg:https://sincityclubcrawl.com/wp-content/uploads/2021/07/772_image.jpg
END:VEVENT
BEGIN:VEVENT
DTSTART;TZID=UTC:20211031T210000
DTEND;TZID=UTC:20211101T010000
DTSTAMP:20260421T154050
CREATED:20211020T015238Z
LAST-MODIFIED:20211031T035610Z
UID:3583-1635714000-1635728400@sincityclubcrawl.com
SUMMARY:2021 Halloween Package
DESCRIPTION:Halloween Club Crawl\n\n\nPackage Includes: \nAdmission to two clubs with VIP entry \nParty bus transportation to the clubs \nHour booze cruise with a stop at the Las Vegas sign \nComplimentary drinks on the party bus
URL:https://sincityclubcrawl.com/event/2021-halloween-package/
LOCATION:3663 S Las Vegas Blvd\, 3663 South Las Vegas Boulevard\, Las Vegas\, NV 89109\, Las Vegas\, NV\, 89109\, US
END:VEVENT
BEGIN:VEVENT
DTSTART;TZID=UTC:20211031T210000
DTEND;TZID=UTC:20211101T010000
DTSTAMP:20260421T154050
CREATED:20211027T005304Z
LAST-MODIFIED:20211031T035611Z
UID:3776-1635714000-1635728400@sincityclubcrawl.com
SUMMARY:Sin City Club Crawl Packages
DESCRIPTION:Our Las Vegas Club Crawls include line passes\, no-cover/entry fees\, transportation and complimentary drinks!\n\n\n  \nSelect the number of male/female guests below then click the checkout button to purchase your club crawl tickets! \nCheck in is at Blondies in the Planet Hollywood hotel. Map of pickup location is below. Final destination is last nightclub.
URL:https://sincityclubcrawl.com/event/sin-city-club-crawl-packages-80/
LOCATION:Untitled
ATTACH;FMTTYPE=image/jpeg:https://sincityclubcrawl.com/wp-content/uploads/2021/07/772_image.jpg
END:VEVENT
END:VCALENDAR